BEGIN:VCALENDAR
VERSION:2.0
PRODID:-//USYS Maine - ECPv6.15.17.1//NONSGML v1.0//EN
CALSCALE:GREGORIAN
METHOD:PUBLISH
X-WR-CALNAME:USYS Maine
X-ORIGINAL-URL:https://www.soccermaine.com
X-WR-CALDESC:Events for USYS Maine
REFRESH-INTERVAL;VALUE=DURATION:PT1H
X-Robots-Tag:noindex
X-PUBLISHED-TTL:PT1H
BEGIN:VTIMEZONE
TZID:UTC
BEGIN:STANDARD
TZOFFSETFROM:+0000
TZOFFSETTO:+0000
TZNAME:UTC
DTSTART:20230101T000000
END:STANDARD
END:VTIMEZONE
BEGIN:VEVENT
DTSTART;TZID=UTC:20240323T090000
DTEND;TZID=UTC:20240323T140000
DTSTAMP:20260423T233325
CREATED:20240201T180428Z
LAST-MODIFIED:20240201T180733Z
UID:10000009-1711184400-1711202400@www.soccermaine.com
SUMMARY:Soccer Maine AGM
DESCRIPTION:Soccer Maine’s 30th Anniversary AGM will take place on March 23\, 2024 at the Green Ladle in Lewiston.
URL:https://www.soccermaine.com/event/soccer-maine-agm/
LOCATION:Green Ladle\, 156 East Avenue\, Lewiston\, ME\, United States
END:VEVENT
BEGIN:VEVENT
DTSTART;VALUE=DATE:20240124
DTEND;VALUE=DATE:20240129
DTSTAMP:20260423T233325
CREATED:20231222T163918Z
LAST-MODIFIED:20231222T163918Z
UID:10000007-1706054400-1706486399@www.soccermaine.com
SUMMARY:2024 Boys ODP Interregionals
DESCRIPTION:WEDNESDAY\, JANUARY 24\, 2024 – SUNDAY\, JANUARY 28\, 2024\nAll Day Event\n\n\nLocation: Orlando\, FL \nPlease contact Aaron Heffernan\, Senior Manager of ODP\, if you have any questions.
URL:https://www.soccermaine.com/event/2024-boys-odp-interregionals/
LOCATION:ME
CATEGORIES:East Region,ODP,Soccer Maine,US Youth Soccer
END:VEVENT
BEGIN:VEVENT
DTSTART;VALUE=DATE:20240118
DTEND;VALUE=DATE:20240123
DTSTAMP:20260423T233325
CREATED:20231222T164017Z
LAST-MODIFIED:20231222T164017Z
UID:10000008-1705536000-1705967999@www.soccermaine.com
SUMMARY:2024 Girls ODP Interregionals
DESCRIPTION:THURSDAY\, JANUARY 18\, 2024 – MONDAY\, JANUARY 22\, 2024\nAll Day Event\n\n\nLocation: Orlando\, FL \nPlease contact Aaron Heffernan\, Senior Manager of ODP\, if you have any questions.
URL:https://www.soccermaine.com/event/2024-girls-odp-interregionals/
LOCATION:ME
CATEGORIES:East Region,ODP,Soccer Maine,US Youth Soccer
END:VEVENT
END:VCALENDAR